BEGIN:VCALENDAR
VERSION:2.0
PRODID:-//Iglesia de Gastonia - ECPv6.3.1//NONSGML v1.0//EN
CALSCALE:GREGORIAN
METHOD:PUBLISH
X-WR-CALNAME:Iglesia de Gastonia
X-ORIGINAL-URL:https://iglesiadegastonia.org
X-WR-CALDESC:Eventos para Iglesia de Gastonia
REFRESH-INTERVAL;VALUE=DURATION:PT1H
X-Robots-Tag:noindex
X-PUBLISHED-TTL:PT1H
BEGIN:VTIMEZONE
TZID:UTC
BEGIN:STANDARD
TZOFFSETFROM:+0000
TZOFFSETTO:+0000
TZNAME:UTC
DTSTART:20220101T000000
END:STANDARD
END:VTIMEZONE
BEGIN:VEVENT
DTSTART;TZID=UTC:20220917T150000
DTEND;TZID=UTC:20220917T180000
DTSTAMP:20260419T154919
CREATED:20220908T135856Z
LAST-MODIFIED:20220908T142304Z
UID:24095-1663426800-1663437600@iglesiadegastonia.org
SUMMARY:Festival Hispano
DESCRIPTION:17 Septiembre celebramos el Día de la hispanidad \nEn este día celebramos el día de la hispanidad resaltando algunos de los valores culturales de cada nación hispanoamericana.\nEste evento lo hemos realizado durante dos años consecutivos\, logrando unir las comunidades latinoamericanas\, a causa de la pandemia se hizo un alto\, pero este año retomaremos con más fuerza. \nEste 17 de Septiembre a las 3:00pm será nuevamente nuestro Festival Hispano. Encontrarás comidas típicas de algunos países representados en nuestra congregación. Además tendremos juegos inflables para niños\, musicá\, compañerismo y mucho más. \nAsi que te esperamos a ti y a toda tu familia en la dirección 2017 EAST OZARK AV 28054. \n¡No Faltes!
URL:https://iglesiadegastonia.org/event/festival-hispano/
CATEGORIES:Septiembre
ATTACH;FMTTYPE=image/png:https://iglesiadegastonia.org/wp-content/uploads/2022/09/FLAYER-2-HISPANO.png
ORGANIZER;CN="Iglesia de Gastonia Flint Groves":MAILTO:iglesiadegastonia@flintgroves.org
END:VEVENT
BEGIN:VEVENT
DTSTART;TZID=UTC:20220717T110000
DTEND;TZID=UTC:20220717T130000
DTSTAMP:20260419T154919
CREATED:20220630T155014Z
LAST-MODIFIED:20220630T155028Z
UID:23784-1658055600-1658062800@iglesiadegastonia.org
SUMMARY:Servicio Especial De Bautismo
DESCRIPTION:Servicio especial de Bautismo en Agua\, será un tiempo especial y esperamos que nos acompañe.
URL:https://iglesiadegastonia.org/event/servicio-especial-de-bautismo/
LOCATION:Bautismo en Agua\, South Mountain State Park 3001 Av\, Vonnelly Springs\, Carolina del Norte\, 28613\, Estados Unidos
CATEGORIES:Julio
ATTACH;FMTTYPE=image/png:https://iglesiadegastonia.org/wp-content/uploads/2022/06/Bautismo.png
ORGANIZER;CN="Iglesia de Gastonia Flint Groves":MAILTO:iglesiadegastonia@flintgroves.org
END:VEVENT
BEGIN:VEVENT
DTSTART;TZID=UTC:20220624T200000
DTEND;TZID=UTC:20220625T000000
DTSTAMP:20260419T154919
CREATED:20220610T154911Z
LAST-MODIFIED:20220610T154911Z
UID:23747-1656100800-1656115200@iglesiadegastonia.org
SUMMARY:Noche de Vigilia
DESCRIPTION:Este viernes 24 de Junio a las 8:00 Pm tendremos nuestra noche de vigilia Tema: Mi gozo al servir al Señor. \nSi vives en Gastonia ¡Te esperamos!
URL:https://iglesiadegastonia.org/event/noche-de-vigilia/
CATEGORIES:Junio
ATTACH;FMTTYPE=image/png:https://iglesiadegastonia.org/wp-content/uploads/2022/06/Vigilia.png
ORGANIZER;CN="Iglesia de Gastonia Flint Groves":MAILTO:iglesiadegastonia@flintgroves.org
END:VEVENT
BEGIN:VEVENT
DTSTART;TZID=UTC:20220508T110000
DTEND;TZID=UTC:20220508T130000
DTSTAMP:20260419T154919
CREATED:20220503T022247Z
LAST-MODIFIED:20220503T124317Z
UID:23177-1652007600-1652014800@iglesiadegastonia.org
SUMMARY:Culto Especial Día de las Madres
DESCRIPTION:Este domingo 8 de mayo tendremos nuestra celebración especial del día de las madres. \nSi eres una mamá y vives en Gastonia ¡Te esperamos!
URL:https://iglesiadegastonia.org/event/culto-especial-dia-de-las-madres/
LOCATION:Iglesia de Gastonia\, 2017 East Ozark Avenue\, Gastonia\, NC\, Gastonia\, NY\, 28054
CATEGORIES:Mayo
ATTACH;FMTTYPE=image/jpeg:https://iglesiadegastonia.org/wp-content/uploads/2022/05/Invitacioin-dia-de-las-madres-iglesia-de.gastonia.jpg
ORGANIZER;CN="Iglesia de Gastonia Flint Groves":MAILTO:iglesiadegastonia@flintgroves.org
END:VEVENT
BEGIN:VEVENT
DTSTART;TZID=UTC:20220415T180000
DTEND;TZID=UTC:20220415T180000
DTSTAMP:20260419T154919
CREATED:20211027T144706Z
LAST-MODIFIED:20220330T051416Z
UID:18226-1650045600-1650045600@iglesiadegastonia.org
SUMMARY:Vigilia de semana Santa
DESCRIPTION:Vigilia de pascua: un tiempo de refresco espiritual\, acompáñanos el próximo viernes 15 de abril\, agéndalo ahora.
URL:https://iglesiadegastonia.org/event/vigilia-de-semana-santa/
LOCATION:Iglesia de Gastonia\, 2017 East Ozark Avenue\, Gastonia\, NC\, Gastonia\, NY\, 28054
CATEGORIES:Proximos
ATTACH;FMTTYPE=image/jpeg:https://iglesiadegastonia.org/wp-content/uploads/2021/10/Vigilia.jpg
ORGANIZER;CN="Iglesia de Gastonia Flint Groves":MAILTO:iglesiadegastonia@flintgroves.org
END:VEVENT
BEGIN:VEVENT
DTSTART;TZID=UTC:20220408T190000
DTEND;TZID=UTC:20220408T203000
DTSTAMP:20260419T154919
CREATED:20211027T144837Z
LAST-MODIFIED:20220402T201212Z
UID:18229-1649444400-1649449800@iglesiadegastonia.org
SUMMARY:Reunión de hombres
DESCRIPTION:Hombres: Reunión para fortalecernos en nuestro rol de hombre en la iglesia de Cristo. Acompáñanos los viernes a las 7:00pm.
URL:https://iglesiadegastonia.org/event/reunion-de-hombres/
LOCATION:Iglesia de Gastonia\, 2017 East Ozark Avenue\, Gastonia\, NC\, Gastonia\, NY\, 28054
CATEGORIES:Proximos
ATTACH;FMTTYPE=image/jpeg:https://iglesiadegastonia.org/wp-content/uploads/2021/10/Seminario1.jpg
ORGANIZER;CN="Iglesia de Gastonia Flint Groves":MAILTO:iglesiadegastonia@flintgroves.org
END:VEVENT
BEGIN:VEVENT
DTSTART;VALUE=DATE:20220402
DTEND;VALUE=DATE:20220403
DTSTAMP:20260419T154919
CREATED:20211027T144504Z
LAST-MODIFIED:20220330T051451Z
UID:18223-1648857600-1648943999@iglesiadegastonia.org
SUMMARY:Aniversario Iglesia de Gastonia
DESCRIPTION:Aniversario: Servicio especial de aniversario\, celebramos la gracia y fidelidad de Dios. Compartiremos un tiempo especial con nuestra familia de la iglesia de Gastonia\, con la palabra de Dios\, actividades y demás.
URL:https://iglesiadegastonia.org/event/aniversario-iglesia-de-gastonia/
LOCATION:Iglesia de Gastonia\, 2017 East Ozark Avenue\, Gastonia\, NC\, Gastonia\, NY\, 28054
CATEGORIES:Proximos
ATTACH;FMTTYPE=image/jpeg:https://iglesiadegastonia.org/wp-content/uploads/2021/10/Aniversario.jpg
ORGANIZER;CN="Iglesia de Gastonia Flint Groves":MAILTO:iglesiadegastonia@flintgroves.org
END:VEVENT
END:VCALENDAR